BEGIN:VCALENDAR
VERSION:2.0
PRODID:-//Tukios.com/
BEGIN:VEVENT
UID:2faf3aea-4141-4b4e-87bb-21763be9a485@www.cliffordfuneralhome.com
DTSTAMP:20260420T191345Z
DTSTART:20260516T180000Z
DTEND:20260516T190000Z
SUMMARY:Funeral Service
DESCRIPTION:
URL:https://www.cliffordfuneralhome.com/obituaries/carolyn-miglorie
LOCATION:St. Paul’s Lutheran Church 5 Gibbs Street  Proctor VT 05765
GEO:43.6606208;-73.0394629
END:VEVENT
END:VCALENDAR