BEGIN:VCALENDAR
VERSION:2.0
PRODID:-//Tukios.com/
BEGIN:VEVENT
UID:07949201-28b4-45d7-8826-a49dcc45fe18@www.cliffordfuneralhome.com
DTSTAMP:20260422T191546Z
DTSTART:20260424T210000Z
DTEND:20260424T230000Z
SUMMARY:Visitation
DESCRIPTION:
URL:https://www.cliffordfuneralhome.com/obituaries/laura-moulton
LOCATION:Clifford Funeral Home 2 Washington St  Rutland VT 05701
GEO:43.6058402;-72.9725613
END:VEVENT
END:VCALENDAR